BEGIN:VCALENDAR
VERSION:2.0
PRODID:-//eventon.com NONSGML v1.0//EN
CALSCALE:GREGORIAN
METHOD:PUBLISH
BEGIN:VEVENT
UID:69e4e035b2b4a
DTSTAMP:20260419T140125Z
DTSTART:20260330
DTEND:20260331
LOCATION:
SUMMARY:Beef Stroganoff
DESCRIPTION:Beef Stroganoff\nhttps://www.wintergrowthinc.org/events/beef-st
 roganoff-9/
URL:https://www.wintergrowthinc.org/events/beef-stroganoff-9/
END:VEVENT
END:VCALENDAR