BEGIN:VCALENDAR
VERSION:2.0
PRODID:-//eventon.com NONSGML v1.0//EN
CALSCALE:GREGORIAN
METHOD:PUBLISH
BEGIN:VEVENT
UID:69e7361128a75
DTSTAMP:20260421T083217Z
DTSTART:20260329
DTEND:20260330
LOCATION:
SUMMARY:Minestrone Soup w/ Elbow Pasta
DESCRIPTION:Minestrone Soup w/ Elbow Pasta\nhttps://www.wintergrowthinc.org
 /events/minestrone-soup-w-elbow-pasta-5/
URL:https://www.wintergrowthinc.org/events/minestrone-soup-w-elbow-pasta-5/
END:VEVENT
END:VCALENDAR