BEGIN:VCALENDAR
VERSION:2.0
PRODID:-//eventon.com NONSGML v1.0//EN
CALSCALE:GREGORIAN
METHOD:PUBLISH
BEGIN:VEVENT
UID:69e73bdeb1f01
DTSTAMP:20260421T085702Z
DTSTART:20260228
DTEND:20260301
LOCATION:
SUMMARY:Spaghetti w. Meat Sauce
DESCRIPTION:Spaghetti w. Meat Sauce\nhttps://www.wintergrowthinc.org/events
 /spaghetti-w-meat-sauce-15/
URL:https://www.wintergrowthinc.org/events/spaghetti-w-meat-sauce-15/
END:VEVENT
END:VCALENDAR