BEGIN:VCALENDAR
VERSION:2.0
PRODID:-//eventon.com NONSGML v1.0//EN
CALSCALE:GREGORIAN
METHOD:PUBLISH
BEGIN:VEVENT
UID:69e5e7d23b15b
DTSTAMP:20260420T084610Z
DTSTART:20260204
DTEND:20260205
LOCATION:
SUMMARY:Fish & Chips
DESCRIPTION:Fish &amp; Chips\nhttps://www.wintergrowthinc.org/events/fish-c
 hips-13/
URL:https://www.wintergrowthinc.org/events/fish-chips-13/
END:VEVENT
END:VCALENDAR