BEGIN:VCALENDAR
VERSION:2.0
PRODID:-//eventon.com NONSGML v1.0//EN
CALSCALE:GREGORIAN
METHOD:PUBLISH
BEGIN:VEVENT
UID:69e7343e5f903
DTSTAMP:20260421T082430Z
DTSTART:20250712
DTEND:20250713
LOCATION:
SUMMARY:Pork Chops
DESCRIPTION:Pork Chops\nhttps://www.wintergrowthinc.org/events/pork-chops-2
 2/
URL:https://www.wintergrowthinc.org/events/pork-chops-22/
END:VEVENT
END:VCALENDAR