BEGIN:VCALENDAR
VERSION:2.0
PRODID:-//eventon.com NONSGML v1.0//EN
CALSCALE:GREGORIAN
METHOD:PUBLISH
BEGIN:VEVENT
UID:69e74a541c88e
DTSTAMP:20260421T095844Z
DTSTART:20250710
DTEND:20250711
LOCATION:
SUMMARY:Ham and Potato Casserole
DESCRIPTION:Ham and Potato Casserole\nhttps://www.wintergrowthinc.org/event
 s/ham-and-potato-casserole-6/
URL:https://www.wintergrowthinc.org/events/ham-and-potato-casserole-6/
END:VEVENT
END:VCALENDAR