BEGIN:VCALENDAR
VERSION:2.0
PRODID:-//eventon.com NONSGML v1.0//EN
CALSCALE:GREGORIAN
METHOD:PUBLISH
BEGIN:VEVENT
UID:69e73e5069202
DTSTAMP:20260421T090728Z
DTSTART:20250803
DTEND:20250804
LOCATION:
SUMMARY:BBQ Pork
DESCRIPTION:BBQ Pork\nhttps://www.wintergrowthinc.org/events/bbq-pork-5/
URL:https://www.wintergrowthinc.org/events/bbq-pork-5/
END:VEVENT
END:VCALENDAR