BEGIN:VCALENDAR
VERSION:2.0
PRODID:-//eventon.com NONSGML v1.0//EN
CALSCALE:GREGORIAN
METHOD:PUBLISH
BEGIN:VEVENT
UID:69e73fb108ff3
DTSTAMP:20260421T091321Z
DTSTART:20250610
DTEND:20250611
LOCATION:
SUMMARY:BBQ Chicken
DESCRIPTION:BBQ Chicken\nhttps://www.wintergrowthinc.org/events/bbq-chicken
 -6/
URL:https://www.wintergrowthinc.org/events/bbq-chicken-6/
END:VEVENT
END:VCALENDAR