BEGIN:VCALENDAR
VERSION:2.0
PRODID:-//eventon.com NONSGML v1.0//EN
CALSCALE:GREGORIAN
METHOD:PUBLISH
BEGIN:VEVENT
UID:69ebe005dd005
DTSTAMP:20260424T212629Z
DTSTART:20250202
DTEND:20250203
LOCATION:
SUMMARY:Manicotti w/ Red Sauce
DESCRIPTION:Manicotti w/ Red Sauce\nhttps://www.wintergrowthinc.org/events/
 manicotti-w-red-sauce-3/
URL:https://www.wintergrowthinc.org/events/manicotti-w-red-sauce-3/
END:VEVENT
END:VCALENDAR