BEGIN:VCALENDAR
VERSION:2.0
PRODID:-//eventon.com NONSGML v1.0//EN
CALSCALE:GREGORIAN
METHOD:PUBLISH
BEGIN:VEVENT
UID:69ea568bbe5d9
DTSTAMP:20260423T172739Z
DTSTART:20250101
DTEND:20250102
LOCATION:
SUMMARY:Chicken & Sausage Alfredo
DESCRIPTION:Chicken &amp; Sausage Alfredo\nhttps://www.wintergrowthinc.org/
 events/chicken-sausage-alfredo/
URL:https://www.wintergrowthinc.org/events/chicken-sausage-alfredo/
END:VEVENT
END:VCALENDAR