BEGIN:VCALENDAR
VERSION:2.0
PRODID:-//eventon.com NONSGML v1.0//EN
CALSCALE:GREGORIAN
METHOD:PUBLISH
BEGIN:VEVENT
UID:69e734258d3f7
DTSTAMP:20260421T082405Z
DTSTART:20241026
DTEND:20241027
LOCATION:
SUMMARY:Whole Wheat Penne Tomato Florentine
DESCRIPTION:Whole Wheat Penne Tomato Florentine\nhttps://www.wintergrowthin
 c.org/events/whole-wheat-penne-tomato-florentine-5/
URL:https://www.wintergrowthinc.org/events/whole-wheat-penne-tomato-florentine-5/
END:VEVENT
END:VCALENDAR