BEGIN:VCALENDAR
VERSION:2.0
PRODID:-//eventon.com NONSGML v1.0//EN
CALSCALE:GREGORIAN
METHOD:PUBLISH
BEGIN:VEVENT
UID:69ed2e9382622
DTSTAMP:20260425T211355Z
DTSTART:20240626
DTEND:20240627
LOCATION:
SUMMARY:Pork Carnitas
DESCRIPTION:Pork Carnitas\nhttps://www.wintergrowthinc.org/events/pork-carn
 itas-3/
URL:https://www.wintergrowthinc.org/events/pork-carnitas-3/
END:VEVENT
END:VCALENDAR