BEGIN:VCALENDAR
VERSION:2.0
PRODID:-//eventon.com NONSGML v1.0//EN
CALSCALE:GREGORIAN
METHOD:PUBLISH
BEGIN:VEVENT
UID:69e496207f352
DTSTAMP:20260419T084520Z
DTSTART:20240612
DTEND:20240613
LOCATION:
SUMMARY:Vegetable Soup
DESCRIPTION:Vegetable Soup\nhttps://www.wintergrowthinc.org/events/vegetabl
 e-soup-9/
URL:https://www.wintergrowthinc.org/events/vegetable-soup-9/
END:VEVENT
END:VCALENDAR