BEGIN:VCALENDAR
VERSION:2.0
PRODID:-//eventon.com NONSGML v1.0//EN
CALSCALE:GREGORIAN
METHOD:PUBLISH
BEGIN:VEVENT
UID:69ed4c6712339
DTSTAMP:20260425T232111Z
DTSTART:20240126
DTEND:20240127
LOCATION:
SUMMARY:Pork Tenderloin
DESCRIPTION:Pork Tenderloin\nhttps://www.wintergrowthinc.org/events/pork-te
 nderloin-3/
URL:https://www.wintergrowthinc.org/events/pork-tenderloin-3/
END:VEVENT
END:VCALENDAR