BEGIN:VCALENDAR
VERSION:2.0
PRODID:-//eventon.com NONSGML v1.0//EN
CALSCALE:GREGORIAN
METHOD:PUBLISH
BEGIN:VEVENT
UID:69e928e3234c8
DTSTAMP:20260422T200035Z
DTSTART:20231222
DTEND:20231223
LOCATION:
SUMMARY:Pork Tenderloin
DESCRIPTION:Pork Tenderloin\nhttps://www.wintergrowthinc.org/events/pork-te
 nderloin-2/
URL:https://www.wintergrowthinc.org/events/pork-tenderloin-2/
END:VEVENT
END:VCALENDAR