BEGIN:VCALENDAR
VERSION:2.0
PRODID:-//eventon.com NONSGML v1.0//EN
CALSCALE:GREGORIAN
METHOD:PUBLISH
BEGIN:VEVENT
UID:69e758053b5b4
DTSTAMP:20260421T105709Z
DTSTART:20230809
DTEND:20230810
LOCATION:
SUMMARY:Beef Tenders With Mushroom Gravy
DESCRIPTION:Beef Tenders With Mushroom Gravy\,  Fingerling Potatoes\,  Mixe
 d Veggies\,  Whole Wheat Roll\,  Fruit Salad\nhttps://www.wintergrowthinc.o
 rg/events/8-9-23-lunch/
URL:https://www.wintergrowthinc.org/events/8-9-23-lunch/
END:VEVENT
END:VCALENDAR