BEGIN:VCALENDAR
VERSION:2.0
PRODID:-//eventon.com NONSGML v1.0//EN
CALSCALE:GREGORIAN
METHOD:PUBLISH
BEGIN:VEVENT
UID:69e683a8d2cfd
DTSTAMP:20260420T195104Z
DTSTART:20230316
DTEND:20230317
LOCATION:
SUMMARY:Stuffed Peppers
DESCRIPTION:Stuffed Peppers\,  Roasted Potatoes\,  Multi Grain Roll\,  Appl
 esauce\,  Sugar Free Jell-O\nhttps://www.wintergrowthinc.org/events/3-16-23
 -dinner/
URL:https://www.wintergrowthinc.org/events/3-16-23-dinner/
END:VEVENT
END:VCALENDAR