BEGIN:VCALENDAR
VERSION:2.0
PRODID:-//eventon.com NONSGML v1.0//EN
CALSCALE:GREGORIAN
METHOD:PUBLISH
BEGIN:VEVENT
UID:69ebb9879fcb8
DTSTAMP:20260424T184215Z
DTSTART:20230327
DTEND:20230328
LOCATION:
SUMMARY:Swedish Meatballs
DESCRIPTION:Swedish Meatballs\,  Brown Rice\,  Turnip Greens\,  Whole Wheat
  Roll\,  Peaches\nhttps://www.wintergrowthinc.org/events/3-27-23-lunch/
URL:https://www.wintergrowthinc.org/events/3-27-23-lunch/
END:VEVENT
END:VCALENDAR