BEGIN:VCALENDAR
VERSION:2.0
PRODID:-//eventon.com NONSGML v1.0//EN
CALSCALE:GREGORIAN
METHOD:PUBLISH
BEGIN:VEVENT
UID:69ebce5d36e7d
DTSTAMP:20260424T201109Z
DTSTART:20230202
DTEND:20230203
LOCATION:
SUMMARY:Cheese Ravioli
DESCRIPTION:Cheese Ravioli\,  Squash\,  Braised Cabbage\,  Garlic Bread\,  
 Spice Cake\nhttps://www.wintergrowthinc.org/events/2-2-23-dinner/
URL:https://www.wintergrowthinc.org/events/2-2-23-dinner/
END:VEVENT
END:VCALENDAR