BEGIN:VCALENDAR
VERSION:2.0
PRODID:-//eventon.com NONSGML v1.0//EN
CALSCALE:GREGORIAN
METHOD:PUBLISH
BEGIN:VEVENT
UID:69ea7a04ec6e2
DTSTAMP:20260423T195900Z
DTSTART:20221126
DTEND:20221127
LOCATION:
SUMMARY:Lentil Soup
DESCRIPTION:Lentil Soup\,  Green Beans\,  Whole Wheat Roll\,  Brownie\nhttp
 s://www.wintergrowthinc.org/events/11-26-22-dinner/
URL:https://www.wintergrowthinc.org/events/11-26-22-dinner/
END:VEVENT
END:VCALENDAR