BEGIN:VCALENDAR
VERSION:2.0
PRODID:-//eventon.com NONSGML v1.0//EN
CALSCALE:GREGORIAN
METHOD:PUBLISH
BEGIN:VEVENT
UID:69e6865fa7def
DTSTAMP:20260420T200239Z
DTSTART:20221018
DTEND:20221019
LOCATION:
SUMMARY:Salisbury Steak w. Mushroom Gravy
DESCRIPTION:Salisbury Steak w. Mushroom Gravy\,  Roasted Sweet Potato\,  Fr
 esh Fruit\nhttps://www.wintergrowthinc.org/events/10-18-22-dinner/
URL:https://www.wintergrowthinc.org/events/10-18-22-dinner/
END:VEVENT
END:VCALENDAR