BEGIN:VCALENDAR
VERSION:2.0
PRODID:-//eventon.com NONSGML v1.0//EN
CALSCALE:GREGORIAN
METHOD:PUBLISH
BEGIN:VEVENT
UID:69eb76f529d2b
DTSTAMP:20260424T135813Z
DTSTART:20220208
DTEND:20220209
LOCATION:
SUMMARY:Smothered Chicken
DESCRIPTION:Smothered Chicken\,  Macaroni &#038; Cheese\,  Steamed Spinach\
 ,  Apple Cobbler\nhttps://www.wintergrowthinc.org/events/2-8-22-dinner/
URL:https://www.wintergrowthinc.org/events/2-8-22-dinner/
END:VEVENT
END:VCALENDAR