BEGIN:VCALENDAR
VERSION:2.0
PRODID:-//eventon.com NONSGML v1.0//EN
CALSCALE:GREGORIAN
METHOD:PUBLISH
BEGIN:VEVENT
UID:69ec9a695d56e
DTSTAMP:20260425T104145Z
DTSTART:20211031
DTEND:20211101
LOCATION:
SUMMARY:Fish Sticks
DESCRIPTION:Fish Sticks\,  Baked French Fries\,  Garden Peas\,  Angel Food 
 Cake\,  Mixed Berries\nhttps://www.wintergrowthinc.org/events/10-31-21-dinn
 er/
URL:https://www.wintergrowthinc.org/events/10-31-21-dinner/
END:VEVENT
END:VCALENDAR