BEGIN:VCALENDAR
VERSION:2.0
PRODID:-//eventon.com NONSGML v1.0//EN
CALSCALE:GREGORIAN
METHOD:PUBLISH
BEGIN:VEVENT
UID:69ec99bd651a5
DTSTAMP:20260425T103853Z
DTSTART:20211003
DTEND:20211004
LOCATION:
SUMMARY:Salisbury Steak
DESCRIPTION:Salisbury Steak\,  Mashed Potatoes\,  Spinach\,  Whole Wheat Br
 ead\,  Yellow Cake\nhttps://www.wintergrowthinc.org/events/10-3-21-lunch/
URL:https://www.wintergrowthinc.org/events/10-3-21-lunch/
END:VEVENT
END:VCALENDAR